BEGIN:VCALENDAR
VERSION:2.0
PRODID:-//Rescue Awareness Solutions Training &amp; Consultants - ECPv6.15.17.1//NONSGML v1.0//EN
CALSCALE:GREGORIAN
METHOD:PUBLISH
X-WR-CALNAME:Rescue Awareness Solutions Training &amp; Consultants
X-ORIGINAL-URL:https://rescueawareness.com
X-WR-CALDESC:Events for Rescue Awareness Solutions Training &amp; Consultants
REFRESH-INTERVAL;VALUE=DURATION:PT1H
X-Robots-Tag:noindex
X-PUBLISHED-TTL:PT1H
BEGIN:VTIMEZONE
TZID:America/New_York
BEGIN:DAYLIGHT
TZOFFSETFROM:-0500
TZOFFSETTO:-0400
TZNAME:EDT
DTSTART:20250309T070000
END:DAYLIGHT
BEGIN:STANDARD
TZOFFSETFROM:-0400
TZOFFSETTO:-0500
TZNAME:EST
DTSTART:20251102T060000
END:STANDARD
BEGIN:DAYLIGHT
TZOFFSETFROM:-0500
TZOFFSETTO:-0400
TZNAME:EDT
DTSTART:20260308T070000
END:DAYLIGHT
BEGIN:STANDARD
TZOFFSETFROM:-0400
TZOFFSETTO:-0500
TZNAME:EST
DTSTART:20261101T060000
END:STANDARD
BEGIN:DAYLIGHT
TZOFFSETFROM:-0500
TZOFFSETTO:-0400
TZNAME:EDT
DTSTART:20270314T070000
END:DAYLIGHT
BEGIN:STANDARD
TZOFFSETFROM:-0400
TZOFFSETTO:-0500
TZNAME:EST
DTSTART:20271107T060000
END:STANDARD
END:VTIMEZONE
BEGIN:VEVENT
DTSTART;TZID=America/New_York:20260806T080000
DTEND;TZID=America/New_York:20260806T120000
DTSTAMP:20260420T095423
CREATED:20260327T153419Z
LAST-MODIFIED:20260327T153419Z
UID:20243-1786003200-1786017600@rescueawareness.com
SUMMARY:Basic Cardiac Life Support (BCLS) 08-06-2026
DESCRIPTION:
URL:https://rescueawareness.com/event/basic-cardiac-life-support-bcls-08-06-2026/
LOCATION:New York City/New Jersey\, United States
CATEGORIES:BCLS,Courses,Medical Professionals
END:VEVENT
BEGIN:VEVENT
DTSTART;TZID=America/New_York:20260807T080000
DTEND;TZID=America/New_York:20260807T120000
DTSTAMP:20260420T095423
CREATED:20260327T153427Z
LAST-MODIFIED:20260327T153427Z
UID:20244-1786089600-1786104000@rescueawareness.com
SUMMARY:Basic Cardiac Life Support (BCLS) 08-07-2026
DESCRIPTION:
URL:https://rescueawareness.com/event/basic-cardiac-life-support-bcls-08-07-2026/
LOCATION:New York City/New Jersey\, United States
CATEGORIES:BCLS,Courses,Medical Professionals
END:VEVENT
BEGIN:VEVENT
DTSTART;TZID=America/New_York:20260813T080000
DTEND;TZID=America/New_York:20260813T120000
DTSTAMP:20260420T095423
CREATED:20260327T153429Z
LAST-MODIFIED:20260327T153429Z
UID:20245-1786608000-1786622400@rescueawareness.com
SUMMARY:Basic Cardiac Life Support (BCLS) 08-13-2026
DESCRIPTION:
URL:https://rescueawareness.com/event/basic-cardiac-life-support-bcls-08-13-2026/
LOCATION:New York City/New Jersey\, United States
CATEGORIES:BCLS,Courses,Medical Professionals
END:VEVENT
BEGIN:VEVENT
DTSTART;TZID=America/New_York:20260814T080000
DTEND;TZID=America/New_York:20260814T120000
DTSTAMP:20260420T095423
CREATED:20260327T153432Z
LAST-MODIFIED:20260327T153432Z
UID:20246-1786694400-1786708800@rescueawareness.com
SUMMARY:Basic Cardiac Life Support (BCLS) 08-14-2026
DESCRIPTION:
URL:https://rescueawareness.com/event/basic-cardiac-life-support-bcls-08-14-2026/
LOCATION:New York City/New Jersey\, United States
CATEGORIES:BCLS,Courses,Medical Professionals
END:VEVENT
BEGIN:VEVENT
DTSTART;TZID=America/New_York:20260820T080000
DTEND;TZID=America/New_York:20260820T120000
DTSTAMP:20260420T095423
CREATED:20260327T153435Z
LAST-MODIFIED:20260327T153435Z
UID:20247-1787212800-1787227200@rescueawareness.com
SUMMARY:Basic Cardiac Life Support (BCLS) 08-20-2026
DESCRIPTION:
URL:https://rescueawareness.com/event/basic-cardiac-life-support-bcls-08-20-2026/
LOCATION:New York City/New Jersey\, United States
CATEGORIES:BCLS,Courses,Medical Professionals
END:VEVENT
BEGIN:VEVENT
DTSTART;TZID=America/New_York:20260821T080000
DTEND;TZID=America/New_York:20260821T120000
DTSTAMP:20260420T095423
CREATED:20260327T153438Z
LAST-MODIFIED:20260327T153438Z
UID:20248-1787299200-1787313600@rescueawareness.com
SUMMARY:Basic Cardiac Life Support (BCLS) 08-21-2026
DESCRIPTION:
URL:https://rescueawareness.com/event/basic-cardiac-life-support-bcls-08-21-2026/
LOCATION:New York City/New Jersey\, United States
CATEGORIES:BCLS,Courses,Medical Professionals
END:VEVENT
BEGIN:VEVENT
DTSTART;TZID=America/New_York:20260827T080000
DTEND;TZID=America/New_York:20260827T120000
DTSTAMP:20260420T095423
CREATED:20260327T153449Z
LAST-MODIFIED:20260327T153458Z
UID:20249-1787817600-1787832000@rescueawareness.com
SUMMARY:Basic Cardiac Life Support (BCLS) 08-27-2026
DESCRIPTION:
URL:https://rescueawareness.com/event/basic-cardiac-life-support-bcls-08-27-2026/
LOCATION:New York City/New Jersey\, United States
CATEGORIES:BCLS,Courses,Medical Professionals
END:VEVENT
BEGIN:VEVENT
DTSTART;TZID=America/New_York:20260828T080000
DTEND;TZID=America/New_York:20260828T120000
DTSTAMP:20260420T095423
CREATED:20260327T153451Z
LAST-MODIFIED:20260327T153458Z
UID:20250-1787904000-1787918400@rescueawareness.com
SUMMARY:Basic Cardiac Life Support (BCLS) 08-28-2026
DESCRIPTION:
URL:https://rescueawareness.com/event/basic-cardiac-life-support-bcls-08-28-2026/
LOCATION:New York City/New Jersey\, United States
CATEGORIES:BCLS,Courses,Medical Professionals
END:VEVENT
BEGIN:VEVENT
DTSTART;TZID=America/New_York:20260903T080000
DTEND;TZID=America/New_York:20260903T120000
DTSTAMP:20260420T095423
CREATED:20260327T153453Z
LAST-MODIFIED:20260327T153459Z
UID:20251-1788422400-1788436800@rescueawareness.com
SUMMARY:Basic Cardiac Life Support (BCLS) 09-03-2026
DESCRIPTION:
URL:https://rescueawareness.com/event/basic-cardiac-life-support-bcls-09-03-2026/
LOCATION:New York City/New Jersey\, United States
CATEGORIES:BCLS,Courses,Medical Professionals
END:VEVENT
BEGIN:VEVENT
DTSTART;TZID=America/New_York:20260904T080000
DTEND;TZID=America/New_York:20260904T120000
DTSTAMP:20260420T095423
CREATED:20260327T153454Z
LAST-MODIFIED:20260327T153459Z
UID:20252-1788508800-1788523200@rescueawareness.com
SUMMARY:Basic Cardiac Life Support (BCLS) 09-04-2026
DESCRIPTION:
URL:https://rescueawareness.com/event/basic-cardiac-life-support-bcls-09-04-2026/
LOCATION:New York City/New Jersey\, United States
CATEGORIES:BCLS,Courses,Medical Professionals
END:VEVENT
BEGIN:VEVENT
DTSTART;TZID=America/New_York:20260910T080000
DTEND;TZID=America/New_York:20260910T120000
DTSTAMP:20260420T095423
CREATED:20260327T153455Z
LAST-MODIFIED:20260327T153500Z
UID:20253-1789027200-1789041600@rescueawareness.com
SUMMARY:Basic Cardiac Life Support (BCLS) 09-10-2026
DESCRIPTION:
URL:https://rescueawareness.com/event/basic-cardiac-life-support-bcls-09-10-2026/
LOCATION:New York City/New Jersey\, United States
CATEGORIES:BCLS,Courses,Medical Professionals
END:VEVENT
BEGIN:VEVENT
DTSTART;TZID=America/New_York:20260911T080000
DTEND;TZID=America/New_York:20260911T120000
DTSTAMP:20260420T095423
CREATED:20260327T153515Z
LAST-MODIFIED:20260327T153515Z
UID:20259-1789113600-1789128000@rescueawareness.com
SUMMARY:Basic Cardiac Life Support (BCLS) 09-11-2026
DESCRIPTION:
URL:https://rescueawareness.com/event/basic-cardiac-life-support-bcls-09-11-2026/
LOCATION:New York City/New Jersey\, United States
CATEGORIES:BCLS,Courses,Medical Professionals
END:VEVENT
BEGIN:VEVENT
DTSTART;TZID=America/New_York:20260917T080000
DTEND;TZID=America/New_York:20260917T120000
DTSTAMP:20260420T095423
CREATED:20260327T153517Z
LAST-MODIFIED:20260327T153517Z
UID:20260-1789632000-1789646400@rescueawareness.com
SUMMARY:Basic Cardiac Life Support (BCLS) 09-17-2026
DESCRIPTION:
URL:https://rescueawareness.com/event/basic-cardiac-life-support-bcls-09-17-2026/
LOCATION:New York City/New Jersey\, United States
CATEGORIES:BCLS,Courses,Medical Professionals
END:VEVENT
BEGIN:VEVENT
DTSTART;TZID=America/New_York:20260918T080000
DTEND;TZID=America/New_York:20260918T120000
DTSTAMP:20260420T095423
CREATED:20260327T153517Z
LAST-MODIFIED:20260327T153517Z
UID:20261-1789718400-1789732800@rescueawareness.com
SUMMARY:Basic Cardiac Life Support (BCLS) 09-18-2026
DESCRIPTION:
URL:https://rescueawareness.com/event/basic-cardiac-life-support-bcls-09-18-2026/
LOCATION:New York City/New Jersey\, United States
CATEGORIES:BCLS,Courses,Medical Professionals
END:VEVENT
BEGIN:VEVENT
DTSTART;TZID=America/New_York:20260924T080000
DTEND;TZID=America/New_York:20260924T120000
DTSTAMP:20260420T095423
CREATED:20260327T153518Z
LAST-MODIFIED:20260327T153518Z
UID:20262-1790236800-1790251200@rescueawareness.com
SUMMARY:Basic Cardiac Life Support (BCLS) 09-24-2026
DESCRIPTION:
URL:https://rescueawareness.com/event/basic-cardiac-life-support-bcls-09-24-2026/
LOCATION:New York City/New Jersey\, United States
CATEGORIES:BCLS,Courses,Medical Professionals
END:VEVENT
BEGIN:VEVENT
DTSTART;TZID=America/New_York:20260925T080000
DTEND;TZID=America/New_York:20260925T120000
DTSTAMP:20260420T095423
CREATED:20260327T153519Z
LAST-MODIFIED:20260327T153519Z
UID:20263-1790323200-1790337600@rescueawareness.com
SUMMARY:Basic Cardiac Life Support (BCLS) 09-25-2026
DESCRIPTION:
URL:https://rescueawareness.com/event/basic-cardiac-life-support-bcls-09-25-2026/
LOCATION:New York City/New Jersey\, United States
CATEGORIES:BCLS,Courses,Medical Professionals
END:VEVENT
END:VCALENDAR